BEGIN:VCALENDAR
VERSION:2.0
PRODID:-//wp-events-plugin.com//7.2.3.1//EN
TZID:Europe/Berlin
X-WR-TIMEZONE:Europe/Berlin
BEGIN:VEVENT
UID:112@klingenberg-lebt.de
DTSTART;TZID=Europe/Berlin:20260614T000000
DTEND;TZID=Europe/Berlin:20260614T000000
DTSTAMP:20251215T041941Z
URL:https://www.klingenberg-lebt.de/events/vr-bank-triathlon-heilbronn-pow
 ered-by-audi-2/
SUMMARY:VR Bank Triathlon Heilbronn powered by Audi
DESCRIPTION:
ATTACH;FMTTYPE=image/jpeg:https://www.klingenberg-lebt.de/wp-content/uploa
 ds/2025/05/vr-bank-triathlon-heilbronn-powered-by-audi-2024-109-1200x.jpg
END:VEVENT
BEGIN:VTIMEZONE
TZID:Europe/Berlin
X-LIC-LOCATION:Europe/Berlin
BEGIN:DAYLIGHT
DTSTART:20260329T030000
TZOFFSETFROM:+0100
TZOFFSETTO:+0200
TZNAME:CEST
END:DAYLIGHT
END:VTIMEZONE
END:VCALENDAR